BEGIN:VCALENDAR
VERSION:2.0
PRODID:-//Vereniging Dorpsbelang Hees - ECPv6.15.20//NONSGML v1.0//EN
CALSCALE:GREGORIAN
METHOD:PUBLISH
X-ORIGINAL-URL:https://www.dorpsbelanghees.nl
X-WR-CALDESC:Evenementen voor Vereniging Dorpsbelang Hees
REFRESH-INTERVAL;VALUE=DURATION:PT1H
X-Robots-Tag:noindex
X-PUBLISHED-TTL:PT1H
BEGIN:VTIMEZONE
TZID:Europe/Amsterdam
BEGIN:DAYLIGHT
TZOFFSETFROM:+0100
TZOFFSETTO:+0200
TZNAME:CEST
DTSTART:20250330T010000
END:DAYLIGHT
BEGIN:STANDARD
TZOFFSETFROM:+0200
TZOFFSETTO:+0100
TZNAME:CET
DTSTART:20251026T010000
END:STANDARD
BEGIN:DAYLIGHT
TZOFFSETFROM:+0100
TZOFFSETTO:+0200
TZNAME:CEST
DTSTART:20260329T010000
END:DAYLIGHT
BEGIN:STANDARD
TZOFFSETFROM:+0200
TZOFFSETTO:+0100
TZNAME:CET
DTSTART:20261025T010000
END:STANDARD
BEGIN:DAYLIGHT
TZOFFSETFROM:+0100
TZOFFSETTO:+0200
TZNAME:CEST
DTSTART:20270328T010000
END:DAYLIGHT
BEGIN:STANDARD
TZOFFSETFROM:+0200
TZOFFSETTO:+0100
TZNAME:CET
DTSTART:20271031T010000
END:STANDARD
END:VTIMEZONE
BEGIN:VEVENT
DTSTART;TZID=Europe/Amsterdam:20260505T113000
DTEND;TZID=Europe/Amsterdam:20260505T130000
DTSTAMP:20260421T105056
CREATED:20260407T084905Z
LAST-MODIFIED:20260407T084914Z
UID:14501-1777980600-1777986000@www.dorpsbelanghees.nl
SUMMARY:Vrijheidsmaaltijd\, 5-5
DESCRIPTION:
URL:https://www.dorpsbelanghees.nl/activiteit/vrijheidsmaaltijd-5-5/
CATEGORIES:Actueel
ATTACH;FMTTYPE=image/jpeg:https://www.dorpsbelanghees.nl/wp-content/uploads/2026/03/sancta-vrijheidsmaaltijd-2026-vierkant.jpg
END:VEVENT
BEGIN:VEVENT
DTSTART;TZID=Europe/Amsterdam:20260507T193000
DTEND;TZID=Europe/Amsterdam:20260507T213000
DTSTAMP:20260421T105056
CREATED:20260330T121225Z
LAST-MODIFIED:20260420T081719Z
UID:14498-1778182200-1778189400@www.dorpsbelanghees.nl
SUMMARY:7 mei 19.30 ALV\, Sancta Maria
DESCRIPTION:Stukken ALV\n-Agenda\n-Jaarverslag\n-Praatstuk toekomst VDH \nVDH-ALV-2026 \nAls lid van de kascommissie over het jaar 2025 stellen wij voor dat de ALV van 2026 decharge  verleent over het financiële jaar 2025. \nOp woensdag 8 april heeft Maarten de Waal (Penningmeester) aan ondergetekenden volledige inzage gegeven in de boekhouding van VDH.  \nDe vereniging heeft:\n2 lopende rekeningen (een voor vereniging en een voor bouwdorp)\nspaarrekening. \nDe kascontrole heeft plaatsgevonden over de transacties van de lopende en spaarrekening van VDH.\nPenningmeester heeft een overzicht van alle transacties per maand bijgehouden evenals een map met daarin een verzameling van de verantwoording van de uitgaven. Uiteindelijk is de volledige analyse van kascontrole gedaan over de  download van alle 2025 transacties op de lopende VDH rekening. Alle gevraagde stukken zijn overlegd en transparant gearchiveerd (papieren dossier) \nDe 2025 uitgaven zijn in lijn met de begroting en de uitgaven zijn lager dan de inkomsten.  \nOm alle redenen hiervoor genoemd stel ik dan ook voor dat de ALV van 2026 decharge verleent over het financiële jaar 2025 en haar dank uit voor het gedane werk door de Penningmeester. \nEnkele aanbevelingen:\nLeden nadrukkelijk verzoeken het factuurnummer toe te voegen bij het overmaken van de contributie.\nRekening Bouwdorp en nachtommetje ook onder verantwoordelijkheid Penningmeester stellen\, of in ieder geval geconsolideerde kas commissie. \nGroet\,\nMartin Kleijburg en Wilbert Swart
URL:https://www.dorpsbelanghees.nl/activiteit/7-mei-19-30-alv/
CATEGORIES:Actueel,Van het Bestuur
ATTACH;FMTTYPE=image/jpeg:https://www.dorpsbelanghees.nl/wp-content/uploads/2026/03/VDH-logo-tegel.jpg
END:VEVENT
END:VCALENDAR